BEGIN:VCALENDAR
VERSION:2.0
PRODID:-//West Lothian Golf - ECPv6.15.17//NONSGML v1.0//EN
CALSCALE:GREGORIAN
METHOD:PUBLISH
X-WR-CALNAME:West Lothian Golf
X-ORIGINAL-URL:https://westlothiangc.com
X-WR-CALDESC:Events for West Lothian Golf
REFRESH-INTERVAL;VALUE=DURATION:PT1H
X-Robots-Tag:noindex
X-PUBLISHED-TTL:PT1H
BEGIN:VTIMEZONE
TZID:Europe/London
BEGIN:DAYLIGHT
TZOFFSETFROM:+0000
TZOFFSETTO:+0100
TZNAME:BST
DTSTART:20220327T010000
END:DAYLIGHT
BEGIN:STANDARD
TZOFFSETFROM:+0100
TZOFFSETTO:+0000
TZNAME:GMT
DTSTART:20221030T010000
END:STANDARD
BEGIN:DAYLIGHT
TZOFFSETFROM:+0000
TZOFFSETTO:+0100
TZNAME:BST
DTSTART:20230326T010000
END:DAYLIGHT
BEGIN:STANDARD
TZOFFSETFROM:+0100
TZOFFSETTO:+0000
TZNAME:GMT
DTSTART:20231029T010000
END:STANDARD
BEGIN:DAYLIGHT
TZOFFSETFROM:+0000
TZOFFSETTO:+0100
TZNAME:BST
DTSTART:20240331T010000
END:DAYLIGHT
BEGIN:STANDARD
TZOFFSETFROM:+0100
TZOFFSETTO:+0000
TZNAME:GMT
DTSTART:20241027T010000
END:STANDARD
END:VTIMEZONE
BEGIN:VEVENT
DTSTART;VALUE=DATE:20230128
DTEND;VALUE=DATE:20230129
DTSTAMP:20260420T093848
CREATED:20230311T100502Z
LAST-MODIFIED:20230311T102338Z
UID:10000259-1674864000-1674950399@westlothiangc.com
SUMMARY:Kinglass Cup - Week 13
DESCRIPTION:
URL:https://westlothiangc.com/event/kinglass-cup-week-13/
CATEGORIES:Club Competition
END:VEVENT
BEGIN:VEVENT
DTSTART;VALUE=DATE:20230121
DTEND;VALUE=DATE:20230122
DTSTAMP:20260420T093848
CREATED:20230311T100502Z
LAST-MODIFIED:20230311T102338Z
UID:10000258-1674259200-1674345599@westlothiangc.com
SUMMARY:Kinglass Cup - Week 12
DESCRIPTION:
URL:https://westlothiangc.com/event/kinglass-cup-week-12/
CATEGORIES:Club Competition
END:VEVENT
BEGIN:VEVENT
DTSTART;VALUE=DATE:20230114
DTEND;VALUE=DATE:20230115
DTSTAMP:20260420T093848
CREATED:20230311T100502Z
LAST-MODIFIED:20230311T102338Z
UID:10000257-1673654400-1673740799@westlothiangc.com
SUMMARY:Kinglass Cup - Week 11
DESCRIPTION:
URL:https://westlothiangc.com/event/kinglass-cup-week-11/
CATEGORIES:Club Competition
END:VEVENT
BEGIN:VEVENT
DTSTART;VALUE=DATE:20230107
DTEND;VALUE=DATE:20230108
DTSTAMP:20260420T093848
CREATED:20230311T100502Z
LAST-MODIFIED:20230311T102338Z
UID:10000256-1673049600-1673135999@westlothiangc.com
SUMMARY:Kinglass Cup - Week 10
DESCRIPTION:
URL:https://westlothiangc.com/event/kinglass-cup-week-10/
CATEGORIES:Club Competition
END:VEVENT
END:VCALENDAR